BEGIN:VCALENDAR
VERSION:2.0
PRODID:-//The Journey School - ECPv6.15.20//NONSGML v1.0//EN
CALSCALE:GREGORIAN
METHOD:PUBLISH
X-ORIGINAL-URL:https://www.thejourneyschool.org
X-WR-CALDESC:Events for The Journey School
REFRESH-INTERVAL;VALUE=DURATION:PT1H
X-Robots-Tag:noindex
X-PUBLISHED-TTL:PT1H
BEGIN:VTIMEZONE
TZID:America/Chicago
BEGIN:DAYLIGHT
TZOFFSETFROM:-0600
TZOFFSETTO:-0500
TZNAME:CDT
DTSTART:20250309T080000
END:DAYLIGHT
BEGIN:STANDARD
TZOFFSETFROM:-0500
TZOFFSETTO:-0600
TZNAME:CST
DTSTART:20251102T070000
END:STANDARD
BEGIN:DAYLIGHT
TZOFFSETFROM:-0600
TZOFFSETTO:-0500
TZNAME:CDT
DTSTART:20260308T080000
END:DAYLIGHT
BEGIN:STANDARD
TZOFFSETFROM:-0500
TZOFFSETTO:-0600
TZNAME:CST
DTSTART:20261101T070000
END:STANDARD
BEGIN:DAYLIGHT
TZOFFSETFROM:-0600
TZOFFSETTO:-0500
TZNAME:CDT
DTSTART:20270314T080000
END:DAYLIGHT
BEGIN:STANDARD
TZOFFSETFROM:-0500
TZOFFSETTO:-0600
TZNAME:CST
DTSTART:20271107T070000
END:STANDARD
END:VTIMEZONE
BEGIN:VEVENT
DTSTART;TZID=America/Chicago:20260514T180000
DTEND;TZID=America/Chicago:20260514T193000
DTSTAMP:20260423T035030
CREATED:20260422T200043Z
LAST-MODIFIED:20260422T201339Z
UID:13891-1778781600-1778787000@www.thejourneyschool.org
SUMMARY:The Journey School Musical\, "The Wiz"
DESCRIPTION:Ticket prices\n\n\n\n$10 – Adult$ 5 – Child 3-12
URL:https://www.thejourneyschool.org/event/the-journey-school-musical-the-wiz
LOCATION:The Journey School\, 775 Lexington Parkway N\, St. Paul\, MN\, 55104\, United States
CATEGORIES:Community Event,Main Calendar,Student Event
ATTACH;FMTTYPE=image/webp:https://www.thejourneyschool.org/wp-content/uploads/2025/07/wiz-event.webp
END:VEVENT
END:VCALENDAR