BEGIN:VCALENDAR
VERSION:2.0
PRODID:-//The Journey School - ECPv6.15.20//NONSGML v1.0//EN
CALSCALE:GREGORIAN
METHOD:PUBLISH
X-WR-CALNAME:The Journey School
X-ORIGINAL-URL:https://www.thejourneyschool.org
X-WR-CALDESC:Events for The Journey School
REFRESH-INTERVAL;VALUE=DURATION:PT1H
X-Robots-Tag:noindex
X-PUBLISHED-TTL:PT1H
BEGIN:VTIMEZONE
TZID:America/Chicago
BEGIN:DAYLIGHT
TZOFFSETFROM:-0600
TZOFFSETTO:-0500
TZNAME:CDT
DTSTART:20240310T080000
END:DAYLIGHT
BEGIN:STANDARD
TZOFFSETFROM:-0500
TZOFFSETTO:-0600
TZNAME:CST
DTSTART:20241103T070000
END:STANDARD
BEGIN:DAYLIGHT
TZOFFSETFROM:-0600
TZOFFSETTO:-0500
TZNAME:CDT
DTSTART:20250309T080000
END:DAYLIGHT
BEGIN:STANDARD
TZOFFSETFROM:-0500
TZOFFSETTO:-0600
TZNAME:CST
DTSTART:20251102T070000
END:STANDARD
BEGIN:DAYLIGHT
TZOFFSETFROM:-0600
TZOFFSETTO:-0500
TZNAME:CDT
DTSTART:20260308T080000
END:DAYLIGHT
BEGIN:STANDARD
TZOFFSETFROM:-0500
TZOFFSETTO:-0600
TZNAME:CST
DTSTART:20261101T070000
END:STANDARD
BEGIN:DAYLIGHT
TZOFFSETFROM:-0600
TZOFFSETTO:-0500
TZNAME:CDT
DTSTART:20270314T080000
END:DAYLIGHT
BEGIN:STANDARD
TZOFFSETFROM:-0500
TZOFFSETTO:-0600
TZNAME:CST
DTSTART:20271107T070000
END:STANDARD
END:VTIMEZONE
BEGIN:VEVENT
DTSTART;TZID=America/Chicago:20260417T163000
DTEND;TZID=America/Chicago:20260417T173000
DTSTAMP:20260423T050221
CREATED:20260225T152605Z
LAST-MODIFIED:20260225T152606Z
UID:13754-1776443400-1776447000@www.thejourneyschool.org
SUMMARY:Volleyball – A Squad AWAY Game
DESCRIPTION:The Journey School Girls Volleyball A Squad AWAY Game at Hiawatha Academy
URL:https://www.thejourneyschool.org/event/volleyball-a-squad-away-game-3
LOCATION:Hiawatha Academy\, 4640 17th Ave S\, Minneapolis\, Minnesota\, 55407
CATEGORIES:Main Calendar
ATTACH;FMTTYPE=image/webp:https://www.thejourneyschool.org/wp-content/uploads/2026/02/volleyball-event.webp
END:VEVENT
BEGIN:VEVENT
DTSTART;TZID=America/Chicago:20260413T000000
DTEND;TZID=America/Chicago:20260413T235959
DTSTAMP:20260423T050221
CREATED:20250729T003449Z
LAST-MODIFIED:20250729T003454Z
UID:947-1776038400-1776124799@www.thejourneyschool.org
SUMMARY:School Resumes
DESCRIPTION:
URL:https://www.thejourneyschool.org/event/school-resumes
LOCATION:MN
CATEGORIES:Main Calendar,Student Event
ATTACH;FMTTYPE=image/jpeg:https://www.thejourneyschool.org/wp-content/uploads/2020/08/blue-back2school.jpg
END:VEVENT
BEGIN:VEVENT
DTSTART;TZID=America/Chicago:20260410T163000
DTEND;TZID=America/Chicago:20260410T173000
DTSTAMP:20260423T050221
CREATED:20260225T152048Z
LAST-MODIFIED:20260225T152145Z
UID:13750-1775838600-1775842200@www.thejourneyschool.org
SUMMARY:Volleyball – A Squad AWAY Game
DESCRIPTION:The Journey School Girls Volleyball A Squad AWAY Game at Great River School
URL:https://www.thejourneyschool.org/event/volleyball-a-squad-away-game-2
LOCATION:Great River School\, 1326 Energy Park Drive\, St. Paul\, MN\, 55108\, United States
CATEGORIES:Main Calendar
ATTACH;FMTTYPE=image/webp:https://www.thejourneyschool.org/wp-content/uploads/2026/02/volleyball-event.webp
END:VEVENT
BEGIN:VEVENT
DTSTART;TZID=America/Chicago:20260406T000000
DTEND;TZID=America/Chicago:20260410T235959
DTSTAMP:20260423T050221
CREATED:20250729T003258Z
LAST-MODIFIED:20250729T003304Z
UID:11556-1775433600-1775865599@www.thejourneyschool.org
SUMMARY:NO SCHOOL - Spring Break
DESCRIPTION:
URL:https://www.thejourneyschool.org/event/spring-break
LOCATION:MN
CATEGORIES:Main Calendar,No School
ATTACH;FMTTYPE=image/jpeg:https://www.thejourneyschool.org/wp-content/uploads/2020/08/spring_break-e1624476507963.jpg
END:VEVENT
BEGIN:VEVENT
DTSTART;TZID=America/Chicago:20260403T000000
DTEND;TZID=America/Chicago:20260403T235959
DTSTAMP:20260423T050221
CREATED:20250729T002953Z
LAST-MODIFIED:20250729T003155Z
UID:11944-1775174400-1775260799@www.thejourneyschool.org
SUMMARY:NO SCHOOL K-6 (Student Led Conferences)
DESCRIPTION:No School for Grades K-6. Student Led Conferences.
URL:https://www.thejourneyschool.org/event/no-school-student-led-conferences
LOCATION:MN
CATEGORIES:Main Calendar,No School,Student Event
ATTACH;FMTTYPE=image/jpeg:https://www.thejourneyschool.org/wp-content/uploads/2022/10/tooth-day-girl.jpg
END:VEVENT
BEGIN:VEVENT
DTSTART;TZID=America/Chicago:20260327T173000
DTEND;TZID=America/Chicago:20260327T183000
DTSTAMP:20260423T050221
CREATED:20260225T151824Z
LAST-MODIFIED:20260327T152007Z
UID:13748-1774632600-1774636200@www.thejourneyschool.org
SUMMARY:CANCELLED: Volleyball – A Squad Home Game
DESCRIPTION:CANCELLED The Journey School Girls Volleyball A Squad Game vs. Twin Cities Academy
URL:https://www.thejourneyschool.org/event/volleyball-a-squad-home-game-3
LOCATION:The Journey School\, 775 Lexington Parkway N\, St. Paul\, MN\, 55104\, United States
CATEGORIES:Main Calendar
ATTACH;FMTTYPE=image/webp:https://www.thejourneyschool.org/wp-content/uploads/2026/02/volleyball-event.webp
END:VEVENT
BEGIN:VEVENT
DTSTART;TZID=America/Chicago:20260320T000000
DTEND;TZID=America/Chicago:20260320T235959
DTSTAMP:20260423T050221
CREATED:20250725T202334Z
LAST-MODIFIED:20250729T002747Z
UID:13140-1773964800-1774051199@www.thejourneyschool.org
SUMMARY:NO SCHOOL - Staff Professional Development Day
DESCRIPTION:
URL:https://www.thejourneyschool.org/event/no-school-staff-development
LOCATION:MN
CATEGORIES:Main Calendar,No School
ATTACH;FMTTYPE=image/webp:https://www.thejourneyschool.org/wp-content/uploads/2025/07/No-School-Staff-Development.webp
END:VEVENT
BEGIN:VEVENT
DTSTART;TZID=America/Chicago:20260319T000000
DTEND;TZID=America/Chicago:20260319T235959
DTSTAMP:20260423T050221
CREATED:20250720T210640Z
LAST-MODIFIED:20250725T195431Z
UID:911-1773878400-1773964799@www.thejourneyschool.org
SUMMARY:End of Third Quarter
DESCRIPTION:
URL:https://www.thejourneyschool.org/event/end-of-third-quarter
LOCATION:MN
CATEGORIES:Main Calendar
ATTACH;FMTTYPE=image/jpeg:https://www.thejourneyschool.org/wp-content/uploads/2020/08/report_card-e1624476383105.jpg
END:VEVENT
BEGIN:VEVENT
DTSTART;TZID=America/Chicago:20260318T163000
DTEND;TZID=America/Chicago:20260318T173000
DTSTAMP:20260423T050221
CREATED:20260225T145936Z
LAST-MODIFIED:20260316T010919Z
UID:13729-1773851400-1773855000@www.thejourneyschool.org
SUMMARY:Volleyball - B Squad Home Game
DESCRIPTION:The Journey School Girls Volleyball B Squad Game vs. Metro Deaf School
URL:https://www.thejourneyschool.org/event/volleyball-b-squad-home-game-2
LOCATION:The Journey School\, 775 Lexington Parkway N\, St. Paul\, MN\, 55104\, United States
CATEGORIES:Main Calendar
ATTACH;FMTTYPE=image/webp:https://www.thejourneyschool.org/wp-content/uploads/2026/02/volleyball-event.webp
END:VEVENT
BEGIN:VEVENT
DTSTART;TZID=America/Chicago:20260316T000000
DTEND;TZID=America/Chicago:20260316T235959
DTSTAMP:20260423T050221
CREATED:20260316T010553Z
LAST-MODIFIED:20260316T011035Z
UID:13800-1773619200-1773705599@www.thejourneyschool.org
SUMMARY:NO SCHOOL (weather related)
DESCRIPTION:
URL:https://www.thejourneyschool.org/event/no-school-weather
LOCATION:MN
CATEGORIES:Main Calendar,No School
ATTACH;FMTTYPE=image/jpeg:https://www.thejourneyschool.org/wp-content/uploads/2019/06/noSchool-e1624476025283.jpg
END:VEVENT
BEGIN:VEVENT
DTSTART;TZID=America/Chicago:20260225T173000
DTEND;TZID=America/Chicago:20260225T183000
DTSTAMP:20260423T050221
CREATED:20260225T145022Z
LAST-MODIFIED:20260225T150754Z
UID:13717-1772040600-1772044200@www.thejourneyschool.org
SUMMARY:Volleyball - B Squad AWAY Game
DESCRIPTION:The Journey School Girls Volleyball B Squad Game at Seven Hills Prep
URL:https://www.thejourneyschool.org/event/volleyball-b-squad-away-game
LOCATION:Seven Hills Prep\, 1401 W. 76th St.\, Richfield\, Minnesota\, 55423\, United States
CATEGORIES:Main Calendar
ATTACH;FMTTYPE=image/webp:https://www.thejourneyschool.org/wp-content/uploads/2026/02/volleyball-event.webp
END:VEVENT
BEGIN:VEVENT
DTSTART;TZID=America/Chicago:20260216T000000
DTEND;TZID=America/Chicago:20260216T235959
DTSTAMP:20260423T050221
CREATED:20250725T200122Z
LAST-MODIFIED:20250725T200130Z
UID:13131-1771200000-1771286399@www.thejourneyschool.org
SUMMARY:NO SCHOOL - Presidents' Day
DESCRIPTION:
URL:https://www.thejourneyschool.org/event/no-school-presidents-day
LOCATION:MN
CATEGORIES:Main Calendar,No School
ATTACH;FMTTYPE=image/jpeg:https://www.thejourneyschool.org/wp-content/uploads/2020/08/presidents_day.jpg
END:VEVENT
BEGIN:VEVENT
DTSTART;TZID=America/Chicago:20260209T000000
DTEND;TZID=America/Chicago:20260213T235959
DTSTAMP:20260423T050221
CREATED:20260126T174351Z
LAST-MODIFIED:20260126T174355Z
UID:13692-1770595200-1771027199@www.thejourneyschool.org
SUMMARY:Spirit Week
DESCRIPTION:Monday: Crazy Hat and Sock Day \n\n\n\nTuesday: Decade Day\n\n\n\nWednesday: Twin Day\n\n\n\nThursday: PJ Day\n\n\n\nFriday: Team/Sport Day
URL:https://www.thejourneyschool.org/event/spirit-week
LOCATION:MN
CATEGORIES:Main Calendar,Student Event
ATTACH;FMTTYPE=image/webp:https://www.thejourneyschool.org/wp-content/uploads/2026/01/spirit-week-cambrice.webp
END:VEVENT
BEGIN:VEVENT
DTSTART;TZID=America/Chicago:20260129T163000
DTEND;TZID=America/Chicago:20260129T183000
DTSTAMP:20260423T050221
CREATED:20251208T201816Z
LAST-MODIFIED:20251208T201844Z
UID:13482-1769704200-1769711400@www.thejourneyschool.org
SUMMARY:Boys Basketball Home Games
DESCRIPTION:Boys play at 4:30 and 5:30
URL:https://www.thejourneyschool.org/event/boys-basketball-home-games
LOCATION:The Journey School\, 775 Lexington Parkway N\, St. Paul\, MN\, 55104\, United States
CATEGORIES:Main Calendar
ATTACH;FMTTYPE=image/webp:https://www.thejourneyschool.org/wp-content/uploads/2025/02/basketball-boy.webp
END:VEVENT
BEGIN:VEVENT
DTSTART;TZID=America/Chicago:20260123T000000
DTEND;TZID=America/Chicago:20260123T235959
DTSTAMP:20260423T050221
CREATED:20260122T193051Z
LAST-MODIFIED:20260122T193129Z
UID:13678-1769126400-1769212799@www.thejourneyschool.org
SUMMARY:NO SCHOOL - Cold Weather Day
DESCRIPTION:No School due to cold weather. Stay warm\, everyone!
URL:https://www.thejourneyschool.org/event/no-school-cold-weather-day
LOCATION:MN
CATEGORIES:Main Calendar
ATTACH;FMTTYPE=image/webp:https://www.thejourneyschool.org/wp-content/uploads/2026/01/cold-weather-day.webp
END:VEVENT
BEGIN:VEVENT
DTSTART;TZID=America/Chicago:20260123T000000
DTEND;TZID=America/Chicago:20260123T235959
DTSTAMP:20260423T050221
CREATED:20251208T201510Z
LAST-MODIFIED:20260122T195119Z
UID:13480-1769126400-1769212799@www.thejourneyschool.org
SUMMARY:NO Boys Basketball Home Games
DESCRIPTION:Games were cancelled because of the Cold Weather Day.
URL:https://www.thejourneyschool.org/event/boys-basketball-home-games5
LOCATION:The Journey School\, 775 Lexington Parkway N\, St. Paul\, MN\, 55104\, United States
CATEGORIES:Main Calendar
ATTACH;FMTTYPE=image/webp:https://www.thejourneyschool.org/wp-content/uploads/2025/02/basketball-boy.webp
END:VEVENT
BEGIN:VEVENT
DTSTART;TZID=America/Chicago:20260123T000000
DTEND;TZID=America/Chicago:20260123T235959
DTSTAMP:20260423T050221
CREATED:20240808T210558Z
LAST-MODIFIED:20250729T000241Z
UID:909-1769126400-1769212799@www.thejourneyschool.org
SUMMARY:End of Second Quarter
DESCRIPTION:
URL:https://www.thejourneyschool.org/event/end-of-second-quarter
LOCATION:MN
CATEGORIES:Main Calendar
ATTACH;FMTTYPE=image/jpeg:https://www.thejourneyschool.org/wp-content/uploads/2020/08/report_card-e1624476383105.jpg
END:VEVENT
BEGIN:VEVENT
DTSTART;TZID=America/Chicago:20260119T000000
DTEND;TZID=America/Chicago:20260119T235959
DTSTAMP:20260423T050221
CREATED:20250729T002622Z
LAST-MODIFIED:20250729T002628Z
UID:936-1768780800-1768867199@www.thejourneyschool.org
SUMMARY:NO SCHOOL - Dr. Martin Luther King\, Jr. Day
DESCRIPTION:
URL:https://www.thejourneyschool.org/event/no-school-dr-martin-luther-king-jr-day
LOCATION:MN
CATEGORIES:Main Calendar,No School
ATTACH;FMTTYPE=image/jpeg:https://www.thejourneyschool.org/wp-content/uploads/2020/08/MLKjrDay-e1624476280586.jpg
END:VEVENT
BEGIN:VEVENT
DTSTART;TZID=America/Chicago:20260108T163000
DTEND;TZID=America/Chicago:20260108T183000
DTSTAMP:20260423T050221
CREATED:20251208T200405Z
LAST-MODIFIED:20251208T202334Z
UID:13473-1767889800-1767897000@www.thejourneyschool.org
SUMMARY:Boys Basketball Away Games
DESCRIPTION:Boys play at Midwest Star Academy at 4:30 and 5:30.
URL:https://www.thejourneyschool.org/event/boys-basketball-away-games
LOCATION:Midway Star Academy\, 1901 Snelling Avenue N\, St Paul\, Minnesota\, 55108\, United States
CATEGORIES:Main Calendar
ATTACH;FMTTYPE=image/webp:https://www.thejourneyschool.org/wp-content/uploads/2025/02/basketball-boy.webp
END:VEVENT
BEGIN:VEVENT
DTSTART;TZID=America/Chicago:20260105T000000
DTEND;TZID=America/Chicago:20260105T235959
DTSTAMP:20260423T050221
CREATED:20250729T002534Z
LAST-MODIFIED:20250729T002540Z
UID:928-1767571200-1767657599@www.thejourneyschool.org
SUMMARY:Early Bird Registration Begins
DESCRIPTION:
URL:https://www.thejourneyschool.org/event/early-bird-registration-begins
LOCATION:MN
CATEGORIES:Community Event,Main Calendar
ATTACH;FMTTYPE=image/jpeg:https://www.thejourneyschool.org/wp-content/uploads/2020/08/early_bird_registration-e1624476192213.jpg
END:VEVENT
BEGIN:VEVENT
DTSTART;TZID=America/Chicago:20260105T000000
DTEND;TZID=America/Chicago:20260105T235959
DTSTAMP:20260423T050221
CREATED:20250729T002445Z
LAST-MODIFIED:20250729T002451Z
UID:949-1767571200-1767657599@www.thejourneyschool.org
SUMMARY:School Resumes
DESCRIPTION:Happy New Year!
URL:https://www.thejourneyschool.org/event/school-resumes-2
LOCATION:MN
CATEGORIES:Main Calendar,Student Event
ATTACH;FMTTYPE=image/jpeg:https://www.thejourneyschool.org/wp-content/uploads/2020/08/blue-back2school.jpg
END:VEVENT
BEGIN:VEVENT
DTSTART;TZID=America/Chicago:20251222T000000
DTEND;TZID=America/Chicago:20260104T235959
DTSTAMP:20260423T050221
CREATED:20250729T002338Z
LAST-MODIFIED:20250729T002344Z
UID:11558-1766361600-1767571199@www.thejourneyschool.org
SUMMARY:Winter Break
DESCRIPTION:
URL:https://www.thejourneyschool.org/event/winter-break
LOCATION:MN
CATEGORIES:Main Calendar,No School
ATTACH;FMTTYPE=image/jpeg:https://www.thejourneyschool.org/wp-content/uploads/2019/06/noSchool-e1624476025283.jpg
END:VEVENT
BEGIN:VEVENT
DTSTART;TZID=America/Chicago:20251219T163000
DTEND;TZID=America/Chicago:20251219T183000
DTSTAMP:20260423T050221
CREATED:20251204T204801Z
LAST-MODIFIED:20251208T200127Z
UID:13470-1766161800-1766169000@www.thejourneyschool.org
SUMMARY:Boys Basketball Home Games
DESCRIPTION:Boys play at home. 4:30 and 5:30
URL:https://www.thejourneyschool.org/event/boys-basketball-home-game
LOCATION:The Journey School\, 775 Lexington Parkway N\, St. Paul\, MN\, 55104\, United States
CATEGORIES:Main Calendar
ATTACH;FMTTYPE=image/webp:https://www.thejourneyschool.org/wp-content/uploads/2025/02/basketball-boy.webp
END:VEVENT
BEGIN:VEVENT
DTSTART;TZID=America/Chicago:20251218T140000
DTEND;TZID=America/Chicago:20251218T150000
DTSTAMP:20260423T050221
CREATED:20241121T182206Z
LAST-MODIFIED:20251208T200121Z
UID:12585-1766066400-1766070000@www.thejourneyschool.org
SUMMARY:Winter Jingle Concert
DESCRIPTION:Join us on December 18 at 2pm for the K-8 Winter Jingle! In the school gymnasium.
URL:https://www.thejourneyschool.org/event/winter-jingle-concert
LOCATION:MN
CATEGORIES:Community Event,Main Calendar
ATTACH;FMTTYPE=image/webp:https://www.thejourneyschool.org/wp-content/uploads/2024/11/winterjingle25.webp
END:VEVENT
BEGIN:VEVENT
DTSTART;TZID=America/Chicago:20251212T163000
DTEND;TZID=America/Chicago:20251212T173000
DTSTAMP:20260423T050221
CREATED:20251204T204550Z
LAST-MODIFIED:20251208T200109Z
UID:13465-1765557000-1765560600@www.thejourneyschool.org
SUMMARY:Boys Basketball Away Game
DESCRIPTION:Boys play at Yinghua Academy
URL:https://www.thejourneyschool.org/event/boys-basketball-away-game
LOCATION:Yinghua Academy\, 1616 Buchanan St. NE\, Minneapolis\, Wisconsin\, 55413\, United States
CATEGORIES:Main Calendar
ATTACH;FMTTYPE=image/webp:https://www.thejourneyschool.org/wp-content/uploads/2025/02/basketball-boy.webp
END:VEVENT
BEGIN:VEVENT
DTSTART;TZID=America/Chicago:20251204T173000
DTEND;TZID=America/Chicago:20251204T183000
DTSTAMP:20260423T050221
CREATED:20251204T203951Z
LAST-MODIFIED:20251208T200516Z
UID:13455-1764869400-1764873000@www.thejourneyschool.org
SUMMARY:Boys Basketball Away Game
DESCRIPTION:Boys play at Community School of Excellence
URL:https://www.thejourneyschool.org/event/boys-basketball-game
LOCATION:Community School of Excellence\, 270 Larpenteur Ave W\, St Paul\, Minnesota\, 55113\, United States
CATEGORIES:Main Calendar
ATTACH;FMTTYPE=image/webp:https://www.thejourneyschool.org/wp-content/uploads/2025/02/basketball-boy.webp
END:VEVENT
BEGIN:VEVENT
DTSTART;TZID=America/Chicago:20251126T000000
DTEND;TZID=America/Chicago:20251129T235959
DTSTAMP:20260423T050221
CREATED:20250729T000404Z
LAST-MODIFIED:20250729T000409Z
UID:953-1764115200-1764460799@www.thejourneyschool.org
SUMMARY:NO SCHOOL - Thanksgiving Break
DESCRIPTION:
URL:https://www.thejourneyschool.org/event/no-school-thanksgiving
LOCATION:MN
CATEGORIES:Main Calendar,No School
ATTACH;FMTTYPE=image/jpeg:https://www.thejourneyschool.org/wp-content/uploads/2020/08/thanksgiving_day.jpg
END:VEVENT
BEGIN:VEVENT
DTSTART;TZID=America/Chicago:20251121T000000
DTEND;TZID=America/Chicago:20251121T235959
DTSTAMP:20260423T050221
CREATED:20250728T235840Z
LAST-MODIFIED:20250923T183028Z
UID:13149-1763683200-1763769599@www.thejourneyschool.org
SUMMARY:Picture Retake Day
DESCRIPTION:Details
URL:https://www.thejourneyschool.org/event/picture-retake-day
LOCATION:MN
CATEGORIES:Main Calendar
ATTACH;FMTTYPE=image/jpeg:https://www.thejourneyschool.org/wp-content/uploads/2020/08/picture-retakes.jpg
END:VEVENT
BEGIN:VEVENT
DTSTART;TZID=America/Chicago:20251107T000000
DTEND;TZID=America/Chicago:20251107T235959
DTSTAMP:20260423T050221
CREATED:20250729T002226Z
LAST-MODIFIED:20250729T002232Z
UID:951-1762473600-1762559999@www.thejourneyschool.org
SUMMARY:NO SCHOOL - Parent/Teacher Conferences
DESCRIPTION:
URL:https://www.thejourneyschool.org/event/no-school-parent-teacher-conferences
LOCATION:MN
CATEGORIES:Main Calendar,No School,Student Event
ATTACH;FMTTYPE=image/jpeg:https://www.thejourneyschool.org/wp-content/uploads/2020/08/report_card-e1624476383105.jpg
END:VEVENT
BEGIN:VEVENT
DTSTART;TZID=America/Chicago:20251031T000000
DTEND;TZID=America/Chicago:20251031T235959
DTSTAMP:20260423T050221
CREATED:20250729T000530Z
LAST-MODIFIED:20250729T000619Z
UID:906-1761868800-1761955199@www.thejourneyschool.org
SUMMARY:End of First Quarter
DESCRIPTION:
URL:https://www.thejourneyschool.org/event/end-of-first-quarter
LOCATION:MN
CATEGORIES:Main Calendar
ATTACH;FMTTYPE=image/jpeg:https://www.thejourneyschool.org/wp-content/uploads/2020/08/report_card-e1624476383105.jpg
END:VEVENT
END:VCALENDAR